BEGIN:VCALENDAR
VERSION:2.0
PRODID:-//hacksw/handcal//NONSGML v1.0//EN
X-WR-TIMEZONE:Europe/Prague
BEGIN:VEVENT
DTSTART:20260303T190000
DTEND:20260303T200000
UID:76da6b0b9969b58cada230c0e8f8f2f2@strahovskaliga.cz
DESCRIPTION:FC Kovorot vs. Čápi
SUMMARY:FC Kovorot vs. Čápi
LOCATION:Strahov\, 169 00 Praha-Praha 6
URL;VALUE=URI:http://strahovskaliga.cz
END:VEVENT
BEGIN:VEVENT
DTSTART:20260310T190000
DTEND:20260310T200000
UID:616925c62b1659d73135167fcc505bae@strahovskaliga.cz
DESCRIPTION:FC Kovorot vs. Rumové víly
SUMMARY:FC Kovorot vs. Rumové víly
LOCATION:Strahov\, 169 00 Praha-Praha 6
URL;VALUE=URI:http://strahovskaliga.cz
END:VEVENT
BEGIN:VEVENT
DTSTART:20260317T190000
DTEND:20260317T200000
UID:469a4375967fc29d54930b46b916dc54@strahovskaliga.cz
DESCRIPTION:FC Kovorot vs. Dřevouk
SUMMARY:FC Kovorot vs. Dřevouk
LOCATION:Strahov\, 169 00 Praha-Praha 6
URL;VALUE=URI:http://strahovskaliga.cz
END:VEVENT
BEGIN:VEVENT
DTSTART:20260324T190000
DTEND:20260324T200000
UID:57af085205b2798fe53981d5b736334d@strahovskaliga.cz
DESCRIPTION:FC Kovorot vs. Lázeňský klub Atlantic
SUMMARY:FC Kovorot vs. Lázeňský klub Atlantic
LOCATION:Strahov\, 169 00 Praha-Praha 6
URL;VALUE=URI:http://strahovskaliga.cz
END:VEVENT
BEGIN:VEVENT
DTSTART:20260331T190000
DTEND:20260331T200000
UID:abb2609fcc989057a37b7cf0b229b0fb@strahovskaliga.cz
DESCRIPTION:FC Kovorot vs. Syčáci
SUMMARY:FC Kovorot vs. Syčáci
LOCATION:Strahov\, 169 00 Praha-Praha 6
URL;VALUE=URI:http://strahovskaliga.cz
END:VEVENT
BEGIN:VEVENT
DTSTART:20260407T190000
DTEND:20260407T200000
UID:8e18ebe2b24c19867eb02eb1b79a6818@strahovskaliga.cz
DESCRIPTION:FC Kovorot vs. Real Dejvice
SUMMARY:FC Kovorot vs. Real Dejvice
LOCATION:Strahov\, 169 00 Praha-Praha 6
URL;VALUE=URI:http://strahovskaliga.cz
END:VEVENT
BEGIN:VEVENT
DTSTART:20260413T190000
DTEND:20260413T200000
UID:54c07e502576289b75a8542e2b32934f@strahovskaliga.cz
DESCRIPTION:Tucet pinavců vs. FC Kovorot
SUMMARY:Tucet pinavců vs. FC Kovorot
LOCATION:Strahov\, 169 00 Praha-Praha 6
URL;VALUE=URI:http://strahovskaliga.cz
END:VEVENT
END:VCALENDAR